BEGIN:VCALENDAR
VERSION:2.0
PRODID:-//Piedmont California Council Boy Scouts of America - ECPv6.15.20//NONSGML v1.0//EN
CALSCALE:GREGORIAN
METHOD:PUBLISH
X-ORIGINAL-URL:https://piedmontscouting.org
X-WR-CALDESC:Events for Piedmont California Council Boy Scouts of America
REFRESH-INTERVAL;VALUE=DURATION:PT1H
X-Robots-Tag:noindex
X-PUBLISHED-TTL:PT1H
BEGIN:VTIMEZONE
TZID:America/Los_Angeles
BEGIN:DAYLIGHT
TZOFFSETFROM:-0800
TZOFFSETTO:-0700
TZNAME:PDT
DTSTART:20250309T100000
END:DAYLIGHT
BEGIN:STANDARD
TZOFFSETFROM:-0700
TZOFFSETTO:-0800
TZNAME:PST
DTSTART:20251102T090000
END:STANDARD
BEGIN:DAYLIGHT
TZOFFSETFROM:-0800
TZOFFSETTO:-0700
TZNAME:PDT
DTSTART:20260308T100000
END:DAYLIGHT
BEGIN:STANDARD
TZOFFSETFROM:-0700
TZOFFSETTO:-0800
TZNAME:PST
DTSTART:20261101T090000
END:STANDARD
BEGIN:DAYLIGHT
TZOFFSETFROM:-0800
TZOFFSETTO:-0700
TZNAME:PDT
DTSTART:20270314T100000
END:DAYLIGHT
BEGIN:STANDARD
TZOFFSETFROM:-0700
TZOFFSETTO:-0800
TZNAME:PST
DTSTART:20271107T090000
END:STANDARD
END:VTIMEZONE
BEGIN:VEVENT
DTSTART;TZID=America/Los_Angeles:20260415T193000
DTEND;TZID=America/Los_Angeles:20260415T203000
DTSTAMP:20260424T032346
CREATED:20240618T190921Z
LAST-MODIFIED:20240618T190922Z
UID:10006629-1776281400-1776285000@piedmontscouting.org
SUMMARY:Troop 6
DESCRIPTION:Troop 6 weekly meeting at Corpus Christi Gymnasium
URL:https://piedmontscouting.org/events/troop-6-2-2/2026-04-15/
LOCATION:Corpus Christi School Gym\, 1 Estates Dr\, Piedmont\, CA\, 94611\, United States
CATEGORIES:Scouts BSA
GEO:37.813591;-122.2141299
X-APPLE-STRUCTURED-LOCATION;VALUE=URI;X-ADDRESS=Corpus Christi School Gym 1 Estates Dr Piedmont CA 94611 United States;X-APPLE-RADIUS=500;X-TITLE=1 Estates Dr:geo:-122.2141299,37.813591
END:VEVENT
BEGIN:VEVENT
DTSTART;TZID=America/Los_Angeles:20260416T180000
DTEND;TZID=America/Los_Angeles:20260416T213000
DTSTAMP:20260424T032346
CREATED:20260211T221931Z
LAST-MODIFIED:20260326T205902Z
UID:10008159-1776362400-1776375000@piedmontscouting.org
SUMMARY:Annual Recognition Dinner 2026
DESCRIPTION:Please Join Us to Celebrate our Volunteers!\nPiedmont Community Church Guild Hall\, 400 Highland Ave\, Piedmont\, CA 94611 \nRSVP & Purchase Tickets by April 6th \nTickets Available Here\n\n2026 Recipients\nSilver Beaver Award:\nPaul Jahn \nPresident’s Award\nKaren Hawkins \nDistrict Award of Merit\nBrian Kelleher \nDante Rodriguez \nNESA Outstanding Eagle Scout Award \nBryan Cantrill \nTodd Reynolds \nWilliam Peterson Youth Leadership Award \nScouts BSA: Evan Friedman \nVenturing: Stephanie Lee \nDistinguished Scouters: \nPack 3: \nPack 4: Heidi Tremayne \nPack 5: Scott Zengel \nPack 6: Katie Larson \nTroop 1: \nTroop 4: Joelle Frechette \nTroop 6: Sean McKillop \nTroop 11: Rebecca Fisher \nTroop 15: \nPiedmont Community Service Crew: Yoko Ichikawa \nPost 911:
URL:https://piedmontscouting.org/events/annual-recognition-dinner-2026/
LOCATION:Piedmont Community Church\, Guild Hall\, 400 Highland Ave\, Piedmont\, CA\, 94611\, United States
CATEGORIES:Council,Home Featured,Home Highlight
ATTACH;FMTTYPE=image/jpeg:https://piedmontscouting.org/wp-content/uploads/2022/04/annual-dinner-crowd.jpg
GEO:37.8252758;-122.2309549
X-APPLE-STRUCTURED-LOCATION;VALUE=URI;X-ADDRESS=Piedmont Community Church Guild Hall 400 Highland Ave Piedmont CA 94611 United States;X-APPLE-RADIUS=500;X-TITLE=400 Highland Ave:geo:-122.2309549,37.8252758
END:VEVENT
BEGIN:VEVENT
DTSTART;TZID=America/Los_Angeles:20260419T160000
DTEND;TZID=America/Los_Angeles:20260419T170000
DTSTAMP:20260424T032346
CREATED:20260224T193415Z
LAST-MODIFIED:20260224T193416Z
UID:10007623-1776614400-1776618000@piedmontscouting.org
SUMMARY:Camporee '26 Meeting
DESCRIPTION:In Scout Room.
URL:https://piedmontscouting.org/events/camporee-26-meeting-5/
LOCATION:Scout Room\, 10 Highland Way\, Piedmont\, CA\, 94611\, United States
CATEGORIES:Camporee,Scouts BSA
GEO:37.824968;-122.2314289
X-APPLE-STRUCTURED-LOCATION;VALUE=URI;X-ADDRESS=Scout Room 10 Highland Way Piedmont CA 94611 United States;X-APPLE-RADIUS=500;X-TITLE=10 Highland Way:geo:-122.2314289,37.824968
END:VEVENT
BEGIN:VEVENT
DTSTART;TZID=America/Los_Angeles:20260419T160000
DTEND;TZID=America/Los_Angeles:20260419T173000
DTSTAMP:20260424T032346
CREATED:20260317T200710Z
LAST-MODIFIED:20260326T212638Z
UID:10008167-1776614400-1776619800@piedmontscouting.org
SUMMARY:Multisport MB - Spring 2026
DESCRIPTION:Want to “splash and dash” your way to earning a merit badge? Register for the Council’s offering of the Multisport merit badge! \n\n  \nInstructional Session \nScouts will attend one session with MB Counselor Betsy Block to cover the initial requirements of the badge and get tips for developing their four week training plan. This meeting covers requirements 1-4 and 6. \n\nSunday\, April 19th – 4 – 5:30pm in Piedmont Council Scout Room (Church Campus 400 Highland Ave)\n\nIn advance of the session\, please review the Multisport MB requirements HERE. \n  \nMultisport Event \nRegistered Scouts will partake in the Spring Sprint Aquathlon @ Uvas Reservoir on Sunday\, May 31st \n\nFind more information about the event HERE – **do not register for the event there**\n\n  \nCompletion of the Multisport Merit Badge requires: \n\nFull participation at the initial meeting\nCreation and submission of 4 week training plan (template to be provided)\nCompletion of requirements 5\, 7\, and 8\, to be done after the initial meeting\n\n  \n\nRegister via the form below. *Scouts must have completed the Swimming merit badge to register* – All Scouts can register\, but we encourage Scouts to be 14 or older.\nRegistration includes: education and discussion of multisport\, registration for the event\, code for free USA triathlon youth membership\, festive swag item. \nQuestions? Contact District Executive Eris Turner: eturner@piedmontbsa.org \n\nSorry. This form is no longer available.
URL:https://piedmontscouting.org/events/multisport-mb-spring-2026/2026-04-19/
LOCATION:Scout Room\, 10 Highland Way\, Piedmont\, CA\, 94611\, United States
CATEGORIES:Merit Badge Counseling Class,Scouts BSA
GEO:37.824968;-122.2314289
X-APPLE-STRUCTURED-LOCATION;VALUE=URI;X-ADDRESS=Scout Room 10 Highland Way Piedmont CA 94611 United States;X-APPLE-RADIUS=500;X-TITLE=10 Highland Way:geo:-122.2314289,37.824968
END:VEVENT
BEGIN:VEVENT
DTSTART;TZID=America/Los_Angeles:20260420T193000
DTEND;TZID=America/Los_Angeles:20260420T203000
DTSTAMP:20260424T032346
CREATED:20240618T190658Z
LAST-MODIFIED:20240618T190659Z
UID:10006394-1776713400-1776717000@piedmontscouting.org
SUMMARY:Troop 4
DESCRIPTION:Troop 4 weekly meeting at Ellen Driscoll Auditorium
URL:https://piedmontscouting.org/events/troop-4-2/2026-04-20/
LOCATION:Ellen Driscoll Auditorium
CATEGORIES:Scouts BSA
END:VEVENT
BEGIN:VEVENT
DTSTART;TZID=America/Los_Angeles:20260420T193000
DTEND;TZID=America/Los_Angeles:20260420T203000
DTSTAMP:20260424T032346
CREATED:20240618T191205Z
LAST-MODIFIED:20240618T191206Z
UID:10006864-1776713400-1776717000@piedmontscouting.org
SUMMARY:Troop 11
DESCRIPTION:Scout Room is used during this time
URL:https://piedmontscouting.org/events/troop-11-2/2026-04-20/
LOCATION:Kettlewell Room\, Piedmont Community Church 400 Highland Ave\, Piedmont\, 94611\, United States
GEO:37.8250896;-122.2319977
X-APPLE-STRUCTURED-LOCATION;VALUE=URI;X-ADDRESS=Kettlewell Room Piedmont Community Church 400 Highland Ave Piedmont 94611 United States;X-APPLE-RADIUS=500;X-TITLE=Piedmont Community Church 400 Highland Ave:geo:-122.2319977,37.8250896
END:VEVENT
BEGIN:VEVENT
DTSTART;TZID=America/Los_Angeles:20260421T190000
DTEND;TZID=America/Los_Angeles:20260421T203000
DTSTAMP:20260424T032346
CREATED:20251027T223904Z
LAST-MODIFIED:20251027T224706Z
UID:10007911-1776798000-1776803400@piedmontscouting.org
SUMMARY:Troop 15
DESCRIPTION:Troop 15 weekly meeting at Ellen Driscoll Auditorium
URL:https://piedmontscouting.org/events/troop-15-2-3/2026-04-21/
LOCATION:Ellen Driscoll Auditorium
CATEGORIES:Scouts BSA
END:VEVENT
BEGIN:VEVENT
DTSTART;TZID=America/Los_Angeles:20260421T193000
DTEND;TZID=America/Los_Angeles:20260421T203000
DTSTAMP:20260424T032346
CREATED:20240618T190611Z
LAST-MODIFIED:20240618T190612Z
UID:10006171-1776799800-1776803400@piedmontscouting.org
SUMMARY:Troop 1
DESCRIPTION:Scout Room is used during this time
URL:https://piedmontscouting.org/events/troop-1-2/2026-04-21/
LOCATION:Kettlewell Room\, Piedmont Community Church 400 Highland Ave\, Piedmont\, 94611\, United States
CATEGORIES:Scouts BSA
GEO:37.8250896;-122.2319977
X-APPLE-STRUCTURED-LOCATION;VALUE=URI;X-ADDRESS=Kettlewell Room Piedmont Community Church 400 Highland Ave Piedmont 94611 United States;X-APPLE-RADIUS=500;X-TITLE=Piedmont Community Church 400 Highland Ave:geo:-122.2319977,37.8250896
END:VEVENT
BEGIN:VEVENT
DTSTART;TZID=America/Los_Angeles:20260422T193000
DTEND;TZID=America/Los_Angeles:20260422T203000
DTSTAMP:20260424T032346
CREATED:20240618T190921Z
LAST-MODIFIED:20240618T190922Z
UID:10006630-1776886200-1776889800@piedmontscouting.org
SUMMARY:Troop 6
DESCRIPTION:Troop 6 weekly meeting at Corpus Christi Gymnasium
URL:https://piedmontscouting.org/events/troop-6-2-2/2026-04-22/
LOCATION:Corpus Christi School Gym\, 1 Estates Dr\, Piedmont\, CA\, 94611\, United States
CATEGORIES:Scouts BSA
GEO:37.813591;-122.2141299
X-APPLE-STRUCTURED-LOCATION;VALUE=URI;X-ADDRESS=Corpus Christi School Gym 1 Estates Dr Piedmont CA 94611 United States;X-APPLE-RADIUS=500;X-TITLE=1 Estates Dr:geo:-122.2141299,37.813591
END:VEVENT
BEGIN:VEVENT
DTSTART;TZID=America/Los_Angeles:20260424T150000
DTEND;TZID=America/Los_Angeles:20260424T163000
DTSTAMP:20260424T032346
CREATED:20260422T162540Z
LAST-MODIFIED:20260422T162540Z
UID:10008205-1777042800-1777048200@piedmontscouting.org
SUMMARY:Girl Scouts Bronze award Meeting 1
DESCRIPTION:
URL:https://piedmontscouting.org/events/girl-scouts-bronze-award-meeting-1/
LOCATION:Scout Room\, 10 Highland Way\, Piedmont\, CA\, 94611\, United States
GEO:37.824968;-122.2314289
X-APPLE-STRUCTURED-LOCATION;VALUE=URI;X-ADDRESS=Scout Room 10 Highland Way Piedmont CA 94611 United States;X-APPLE-RADIUS=500;X-TITLE=10 Highland Way:geo:-122.2314289,37.824968
END:VEVENT
BEGIN:VEVENT
DTSTART;TZID=America/Los_Angeles:20260424T170000
DTEND;TZID=America/Los_Angeles:20260426T100000
DTSTAMP:20260424T032346
CREATED:20260224T201008Z
LAST-MODIFIED:20260224T201008Z
UID:10008164-1777050000-1777197600@piedmontscouting.org
SUMMARY:Camporee 2026
DESCRIPTION:Piedmont Council’s Camporee (for Scouts BSA) is returning to Camp Tamarancho in 2026! \nThis year’s event promises herculean challenges and elevated fun with the “Greek Mythology” theme. \n\nRegistration for Camporee is handled by your Troop. Stay tuned for further scheduling and station information.
URL:https://piedmontscouting.org/events/camporee-2026/
LOCATION:Camp Tamarancho\, Marin\, 1000 Iron Springs Rd\, Fairfax\, 94930\, United States
CATEGORIES:Camporee,Scouts BSA
ATTACH;FMTTYPE=image/jpeg:https://piedmontscouting.org/wp-content/uploads/2026/02/troop-15-scouts-conquer-the-lizzigator-1-scaled.jpg
GEO:37.993066;-122.6160935
X-APPLE-STRUCTURED-LOCATION;VALUE=URI;X-ADDRESS=Camp Tamarancho Marin 1000 Iron Springs Rd Fairfax 94930 United States;X-APPLE-RADIUS=500;X-TITLE=1000 Iron Springs Rd:geo:-122.6160935,37.993066
END:VEVENT
BEGIN:VEVENT
DTSTART;TZID=America/Los_Angeles:20260427T183000
DTEND;TZID=America/Los_Angeles:20260427T193000
DTSTAMP:20260424T032346
CREATED:20250821T204309Z
LAST-MODIFIED:20250821T205350Z
UID:10007605-1777314600-1777318200@piedmontscouting.org
SUMMARY:Pack 4 Den 3
DESCRIPTION:Meeting in Piedmont Council Scout Room
URL:https://piedmontscouting.org/events/pack-4-den-4-meeting/2026-04-27/
LOCATION:Scout Room\, 10 Highland Way\, Piedmont\, CA\, 94611\, United States
CATEGORIES:Cub Scout,Pack 4
GEO:37.824968;-122.2314289
X-APPLE-STRUCTURED-LOCATION;VALUE=URI;X-ADDRESS=Scout Room 10 Highland Way Piedmont CA 94611 United States;X-APPLE-RADIUS=500;X-TITLE=10 Highland Way:geo:-122.2314289,37.824968
END:VEVENT
BEGIN:VEVENT
DTSTART;TZID=America/Los_Angeles:20260427T193000
DTEND;TZID=America/Los_Angeles:20260427T203000
DTSTAMP:20260424T032346
CREATED:20240618T190658Z
LAST-MODIFIED:20240618T190659Z
UID:10006395-1777318200-1777321800@piedmontscouting.org
SUMMARY:Troop 4
DESCRIPTION:Troop 4 weekly meeting at Ellen Driscoll Auditorium
URL:https://piedmontscouting.org/events/troop-4-2/2026-04-27/
LOCATION:Ellen Driscoll Auditorium
CATEGORIES:Scouts BSA
END:VEVENT
BEGIN:VEVENT
DTSTART;TZID=America/Los_Angeles:20260427T193000
DTEND;TZID=America/Los_Angeles:20260427T203000
DTSTAMP:20260424T032346
CREATED:20240618T191205Z
LAST-MODIFIED:20240618T191206Z
UID:10006865-1777318200-1777321800@piedmontscouting.org
SUMMARY:Troop 11
DESCRIPTION:Scout Room is used during this time
URL:https://piedmontscouting.org/events/troop-11-2/2026-04-27/
LOCATION:Kettlewell Room\, Piedmont Community Church 400 Highland Ave\, Piedmont\, 94611\, United States
GEO:37.8250896;-122.2319977
X-APPLE-STRUCTURED-LOCATION;VALUE=URI;X-ADDRESS=Kettlewell Room Piedmont Community Church 400 Highland Ave Piedmont 94611 United States;X-APPLE-RADIUS=500;X-TITLE=Piedmont Community Church 400 Highland Ave:geo:-122.2319977,37.8250896
END:VEVENT
BEGIN:VEVENT
DTSTART;TZID=America/Los_Angeles:20260428T190000
DTEND;TZID=America/Los_Angeles:20260428T203000
DTSTAMP:20260424T032346
CREATED:20251027T223904Z
LAST-MODIFIED:20251027T224706Z
UID:10007912-1777402800-1777408200@piedmontscouting.org
SUMMARY:Troop 15
DESCRIPTION:Troop 15 weekly meeting at Ellen Driscoll Auditorium
URL:https://piedmontscouting.org/events/troop-15-2-3/2026-04-28/
LOCATION:Ellen Driscoll Auditorium
CATEGORIES:Scouts BSA
END:VEVENT
BEGIN:VEVENT
DTSTART;TZID=America/Los_Angeles:20260428T193000
DTEND;TZID=America/Los_Angeles:20260428T203000
DTSTAMP:20260424T032346
CREATED:20240618T190611Z
LAST-MODIFIED:20240618T190612Z
UID:10006172-1777404600-1777408200@piedmontscouting.org
SUMMARY:Troop 1
DESCRIPTION:Scout Room is used during this time
URL:https://piedmontscouting.org/events/troop-1-2/2026-04-28/
LOCATION:Kettlewell Room\, Piedmont Community Church 400 Highland Ave\, Piedmont\, 94611\, United States
CATEGORIES:Scouts BSA
GEO:37.8250896;-122.2319977
X-APPLE-STRUCTURED-LOCATION;VALUE=URI;X-ADDRESS=Kettlewell Room Piedmont Community Church 400 Highland Ave Piedmont 94611 United States;X-APPLE-RADIUS=500;X-TITLE=Piedmont Community Church 400 Highland Ave:geo:-122.2319977,37.8250896
END:VEVENT
BEGIN:VEVENT
DTSTART;TZID=America/Los_Angeles:20260429T193000
DTEND;TZID=America/Los_Angeles:20260429T203000
DTSTAMP:20260424T032346
CREATED:20240618T190921Z
LAST-MODIFIED:20240618T190922Z
UID:10006631-1777491000-1777494600@piedmontscouting.org
SUMMARY:Troop 6
DESCRIPTION:Troop 6 weekly meeting at Corpus Christi Gymnasium
URL:https://piedmontscouting.org/events/troop-6-2-2/2026-04-29/
LOCATION:Corpus Christi School Gym\, 1 Estates Dr\, Piedmont\, CA\, 94611\, United States
CATEGORIES:Scouts BSA
GEO:37.813591;-122.2141299
X-APPLE-STRUCTURED-LOCATION;VALUE=URI;X-ADDRESS=Corpus Christi School Gym 1 Estates Dr Piedmont CA 94611 United States;X-APPLE-RADIUS=500;X-TITLE=1 Estates Dr:geo:-122.2141299,37.813591
END:VEVENT
BEGIN:VEVENT
DTSTART;TZID=America/Los_Angeles:20260502T163000
DTEND;TZID=America/Los_Angeles:20260503T100000
DTSTAMP:20260424T032346
CREATED:20250108T003543Z
LAST-MODIFIED:20260225T195949Z
UID:10007176-1777739400-1777802400@piedmontscouting.org
SUMMARY:HH - U.S.S. Hornet Overnight 2026
DESCRIPTION:**Registration Required – Closes End of Day Thurs Apr 16** \nWhen: Saturday\, May 2nd at 4:30pm – Sunday\, May 3rd at 10:00am \nWhat: Come aboard the U.S.S. Hornet for the ultimate overnight adventure and find out how the Hornet’s sailors lived and worked on this city at sea. You’ll tour key areas of the ship\, seeing various spaces and systems while learning the history\, science\, and engineering behind them. \nWhere: 707 W Hornet Ave\, Alameda\, CA 94501 \nSpecifics: \n\nCost is $100 per person\nIncludes dinner and breakfast\, served in the original enlisted crew’s mess hall\nYouth must be 5 years of age or older\, accompanied by an adult\n\n\nQuestions? Contact Eris Turner: eturner@piedmontbsa.org \n\nRegistration for this event has closed. Thank you for your interest.
URL:https://piedmontscouting.org/events/hh-u-s-s-hornet-overnight-2026/
LOCATION:USS Hornet\, 707 W Hornet Ave\, Alameda\, CA\, 94501\, United States
CATEGORIES:Cub Scout,Highlander Hikers,Home Featured,Home Highlight
ATTACH;FMTTYPE=image/jpeg:https://piedmontscouting.org/wp-content/uploads/2022/02/usshornet.jpg
GEO:37.7727717;-122.3031335
X-APPLE-STRUCTURED-LOCATION;VALUE=URI;X-ADDRESS=USS Hornet 707 W Hornet Ave Alameda CA 94501 United States;X-APPLE-RADIUS=500;X-TITLE=707 W Hornet Ave:geo:-122.3031335,37.7727717
END:VEVENT
BEGIN:VEVENT
DTSTART;TZID=America/Los_Angeles:20260504T193000
DTEND;TZID=America/Los_Angeles:20260504T203000
DTSTAMP:20260424T032346
CREATED:20240618T190658Z
LAST-MODIFIED:20240618T190659Z
UID:10006396-1777923000-1777926600@piedmontscouting.org
SUMMARY:Troop 4
DESCRIPTION:Troop 4 weekly meeting at Ellen Driscoll Auditorium
URL:https://piedmontscouting.org/events/troop-4-2/2026-05-04/
LOCATION:Ellen Driscoll Auditorium
CATEGORIES:Scouts BSA
END:VEVENT
BEGIN:VEVENT
DTSTART;TZID=America/Los_Angeles:20260504T193000
DTEND;TZID=America/Los_Angeles:20260504T203000
DTSTAMP:20260424T032346
CREATED:20240618T191205Z
LAST-MODIFIED:20240618T191206Z
UID:10006866-1777923000-1777926600@piedmontscouting.org
SUMMARY:Troop 11
DESCRIPTION:Scout Room is used during this time
URL:https://piedmontscouting.org/events/troop-11-2/2026-05-04/
LOCATION:Kettlewell Room\, Piedmont Community Church 400 Highland Ave\, Piedmont\, 94611\, United States
GEO:37.8250896;-122.2319977
X-APPLE-STRUCTURED-LOCATION;VALUE=URI;X-ADDRESS=Kettlewell Room Piedmont Community Church 400 Highland Ave Piedmont 94611 United States;X-APPLE-RADIUS=500;X-TITLE=Piedmont Community Church 400 Highland Ave:geo:-122.2319977,37.8250896
END:VEVENT
BEGIN:VEVENT
DTSTART;TZID=America/Los_Angeles:20260505T110000
DTEND;TZID=America/Los_Angeles:20260505T120000
DTSTAMP:20260424T032346
CREATED:20230821T233208Z
LAST-MODIFIED:20230822T000533Z
UID:10005715-1777978800-1777982400@piedmontscouting.org
SUMMARY:Council Marketing Committee Meeting
DESCRIPTION:
URL:https://piedmontscouting.org/events/council-marketing-committee-meeting/2026-05-05/
LOCATION:Scout Room\, 10 Highland Way\, Piedmont\, CA\, 94611\, United States
CATEGORIES:Council
GEO:37.824968;-122.2314289
X-APPLE-STRUCTURED-LOCATION;VALUE=URI;X-ADDRESS=Scout Room 10 Highland Way Piedmont CA 94611 United States;X-APPLE-RADIUS=500;X-TITLE=10 Highland Way:geo:-122.2314289,37.824968
END:VEVENT
BEGIN:VEVENT
DTSTART;TZID=America/Los_Angeles:20260505T190000
DTEND;TZID=America/Los_Angeles:20260505T203000
DTSTAMP:20260424T032346
CREATED:20251027T223904Z
LAST-MODIFIED:20251027T224706Z
UID:10007913-1778007600-1778013000@piedmontscouting.org
SUMMARY:Troop 15
DESCRIPTION:Troop 15 weekly meeting at Ellen Driscoll Auditorium
URL:https://piedmontscouting.org/events/troop-15-2-3/2026-05-05/
LOCATION:Ellen Driscoll Auditorium
CATEGORIES:Scouts BSA
END:VEVENT
BEGIN:VEVENT
DTSTART;TZID=America/Los_Angeles:20260505T193000
DTEND;TZID=America/Los_Angeles:20260505T203000
DTSTAMP:20260424T032346
CREATED:20240618T190611Z
LAST-MODIFIED:20240618T190612Z
UID:10006173-1778009400-1778013000@piedmontscouting.org
SUMMARY:Troop 1
DESCRIPTION:Scout Room is used during this time
URL:https://piedmontscouting.org/events/troop-1-2/2026-05-05/
LOCATION:Kettlewell Room\, Piedmont Community Church 400 Highland Ave\, Piedmont\, 94611\, United States
CATEGORIES:Scouts BSA
GEO:37.8250896;-122.2319977
X-APPLE-STRUCTURED-LOCATION;VALUE=URI;X-ADDRESS=Kettlewell Room Piedmont Community Church 400 Highland Ave Piedmont 94611 United States;X-APPLE-RADIUS=500;X-TITLE=Piedmont Community Church 400 Highland Ave:geo:-122.2319977,37.8250896
END:VEVENT
BEGIN:VEVENT
DTSTART;TZID=America/Los_Angeles:20260506T193000
DTEND;TZID=America/Los_Angeles:20260506T203000
DTSTAMP:20260424T032346
CREATED:20240618T190921Z
LAST-MODIFIED:20240618T190922Z
UID:10006632-1778095800-1778099400@piedmontscouting.org
SUMMARY:Troop 6
DESCRIPTION:Troop 6 weekly meeting at Corpus Christi Gymnasium
URL:https://piedmontscouting.org/events/troop-6-2-2/2026-05-06/
LOCATION:Corpus Christi School Gym\, 1 Estates Dr\, Piedmont\, CA\, 94611\, United States
CATEGORIES:Scouts BSA
GEO:37.813591;-122.2141299
X-APPLE-STRUCTURED-LOCATION;VALUE=URI;X-ADDRESS=Corpus Christi School Gym 1 Estates Dr Piedmont CA 94611 United States;X-APPLE-RADIUS=500;X-TITLE=1 Estates Dr:geo:-122.2141299,37.813591
END:VEVENT
BEGIN:VEVENT
DTSTART;TZID=America/Los_Angeles:20260509T110000
DTEND;TZID=America/Los_Angeles:20260509T140000
DTSTAMP:20260424T032346
CREATED:20250108T003657Z
LAST-MODIFIED:20250829T193441Z
UID:10007177-1778324400-1778335200@piedmontscouting.org
SUMMARY:HH - Bike Fest '26
DESCRIPTION:Piedmont Council’s annual Bike Fest is returning once again in partnership with the Piedmont Police Department and Havens Parents Club! Together\, we’re hosting a combined “Bike Fest” to help all Piedmont youth prepare for 2026’s Bike to School Day. Join as at Havens to ensure you’re safe to cycle this summer and take part in:\n– A family biking class by Bike East Bay\n– Obstacle Course by the Piedmont Police Department\n– Bike Maintenance assistance by Oakland Trek\n– Also try an e-bike with New Wheel \n**There’s no RSVP\, so bike on over and join us when you can! \nWhen: Saturday\, May 9th from 11am – 2pm\nWhere: Havens Elementary Blacktop – 323 Highland Ave\, Piedmont\, CA 94611
URL:https://piedmontscouting.org/events/hh-bike-fest-2026/
LOCATION:Havens Elementary School\, 323 Highland Ave\, Piedmont\, 94611\, United States
CATEGORIES:Cub Scout,Highlander Hikers
ATTACH;FMTTYPE=image/jpeg:https://piedmontscouting.org/wp-content/uploads/2022/08/bikefest-balance-scaled.jpg
END:VEVENT
BEGIN:VEVENT
DTSTART;TZID=America/Los_Angeles:20260511T193000
DTEND;TZID=America/Los_Angeles:20260511T203000
DTSTAMP:20260424T032346
CREATED:20240618T190658Z
LAST-MODIFIED:20240618T190659Z
UID:10006397-1778527800-1778531400@piedmontscouting.org
SUMMARY:Troop 4
DESCRIPTION:Troop 4 weekly meeting at Ellen Driscoll Auditorium
URL:https://piedmontscouting.org/events/troop-4-2/2026-05-11/
LOCATION:Ellen Driscoll Auditorium
CATEGORIES:Scouts BSA
END:VEVENT
BEGIN:VEVENT
DTSTART;TZID=America/Los_Angeles:20260511T193000
DTEND;TZID=America/Los_Angeles:20260511T203000
DTSTAMP:20260424T032346
CREATED:20240618T191205Z
LAST-MODIFIED:20240618T191206Z
UID:10006867-1778527800-1778531400@piedmontscouting.org
SUMMARY:Troop 11
DESCRIPTION:Scout Room is used during this time
URL:https://piedmontscouting.org/events/troop-11-2/2026-05-11/
LOCATION:Kettlewell Room\, Piedmont Community Church 400 Highland Ave\, Piedmont\, 94611\, United States
GEO:37.8250896;-122.2319977
X-APPLE-STRUCTURED-LOCATION;VALUE=URI;X-ADDRESS=Kettlewell Room Piedmont Community Church 400 Highland Ave Piedmont 94611 United States;X-APPLE-RADIUS=500;X-TITLE=Piedmont Community Church 400 Highland Ave:geo:-122.2319977,37.8250896
END:VEVENT
BEGIN:VEVENT
DTSTART;TZID=America/Los_Angeles:20260512T190000
DTEND;TZID=America/Los_Angeles:20260512T203000
DTSTAMP:20260424T032346
CREATED:20251027T223904Z
LAST-MODIFIED:20251027T224706Z
UID:10007914-1778612400-1778617800@piedmontscouting.org
SUMMARY:Troop 15
DESCRIPTION:Troop 15 weekly meeting at Ellen Driscoll Auditorium
URL:https://piedmontscouting.org/events/troop-15-2-3/2026-05-12/
LOCATION:Ellen Driscoll Auditorium
CATEGORIES:Scouts BSA
END:VEVENT
BEGIN:VEVENT
DTSTART;TZID=America/Los_Angeles:20260512T193000
DTEND;TZID=America/Los_Angeles:20260512T203000
DTSTAMP:20260424T032346
CREATED:20240618T190611Z
LAST-MODIFIED:20240618T190612Z
UID:10006174-1778614200-1778617800@piedmontscouting.org
SUMMARY:Troop 1
DESCRIPTION:Scout Room is used during this time
URL:https://piedmontscouting.org/events/troop-1-2/2026-05-12/
LOCATION:Kettlewell Room\, Piedmont Community Church 400 Highland Ave\, Piedmont\, 94611\, United States
CATEGORIES:Scouts BSA
GEO:37.8250896;-122.2319977
X-APPLE-STRUCTURED-LOCATION;VALUE=URI;X-ADDRESS=Kettlewell Room Piedmont Community Church 400 Highland Ave Piedmont 94611 United States;X-APPLE-RADIUS=500;X-TITLE=Piedmont Community Church 400 Highland Ave:geo:-122.2319977,37.8250896
END:VEVENT
BEGIN:VEVENT
DTSTART;TZID=America/Los_Angeles:20260513T193000
DTEND;TZID=America/Los_Angeles:20260513T203000
DTSTAMP:20260424T032346
CREATED:20240618T190921Z
LAST-MODIFIED:20240618T190922Z
UID:10006633-1778700600-1778704200@piedmontscouting.org
SUMMARY:Troop 6
DESCRIPTION:Troop 6 weekly meeting at Corpus Christi Gymnasium
URL:https://piedmontscouting.org/events/troop-6-2-2/2026-05-13/
LOCATION:Corpus Christi School Gym\, 1 Estates Dr\, Piedmont\, CA\, 94611\, United States
CATEGORIES:Scouts BSA
GEO:37.813591;-122.2141299
X-APPLE-STRUCTURED-LOCATION;VALUE=URI;X-ADDRESS=Corpus Christi School Gym 1 Estates Dr Piedmont CA 94611 United States;X-APPLE-RADIUS=500;X-TITLE=1 Estates Dr:geo:-122.2141299,37.813591
END:VEVENT
END:VCALENDAR