BEGIN:VCALENDAR
VERSION:2.0
PRODID:-//Piedmont California Council Boy Scouts of America - ECPv6.15.20//NONSGML v1.0//EN
CALSCALE:GREGORIAN
METHOD:PUBLISH
X-ORIGINAL-URL:https://piedmontscouting.org
X-WR-CALDESC:Events for Piedmont California Council Boy Scouts of America
REFRESH-INTERVAL;VALUE=DURATION:PT1H
X-Robots-Tag:noindex
X-PUBLISHED-TTL:PT1H
BEGIN:VTIMEZONE
TZID:America/Los_Angeles
BEGIN:DAYLIGHT
TZOFFSETFROM:-0800
TZOFFSETTO:-0700
TZNAME:PDT
DTSTART:20250309T100000
END:DAYLIGHT
BEGIN:STANDARD
TZOFFSETFROM:-0700
TZOFFSETTO:-0800
TZNAME:PST
DTSTART:20251102T090000
END:STANDARD
BEGIN:DAYLIGHT
TZOFFSETFROM:-0800
TZOFFSETTO:-0700
TZNAME:PDT
DTSTART:20260308T100000
END:DAYLIGHT
BEGIN:STANDARD
TZOFFSETFROM:-0700
TZOFFSETTO:-0800
TZNAME:PST
DTSTART:20261101T090000
END:STANDARD
BEGIN:DAYLIGHT
TZOFFSETFROM:-0800
TZOFFSETTO:-0700
TZNAME:PDT
DTSTART:20270314T100000
END:DAYLIGHT
BEGIN:STANDARD
TZOFFSETFROM:-0700
TZOFFSETTO:-0800
TZNAME:PST
DTSTART:20271107T090000
END:STANDARD
END:VTIMEZONE
BEGIN:VEVENT
DTSTART;TZID=America/Los_Angeles:20260224T190000
DTEND;TZID=America/Los_Angeles:20260224T203000
DTSTAMP:20260424T013734
CREATED:20251027T223904Z
LAST-MODIFIED:20251027T224706Z
UID:10007903-1771959600-1771965000@piedmontscouting.org
SUMMARY:Troop 15
DESCRIPTION:Troop 15 weekly meeting at Ellen Driscoll Auditorium
URL:https://piedmontscouting.org/events/troop-15-2-3/2026-02-24/
LOCATION:Ellen Driscoll Auditorium
CATEGORIES:Scouts BSA
END:VEVENT
BEGIN:VEVENT
DTSTART;TZID=America/Los_Angeles:20260224T193000
DTEND;TZID=America/Los_Angeles:20260224T203000
DTSTAMP:20260424T013734
CREATED:20240618T190611Z
LAST-MODIFIED:20240618T190612Z
UID:10006163-1771961400-1771965000@piedmontscouting.org
SUMMARY:Troop 1
DESCRIPTION:Scout Room is used during this time
URL:https://piedmontscouting.org/events/troop-1-2/2026-02-24/
LOCATION:Kettlewell Room\, Piedmont Community Church 400 Highland Ave\, Piedmont\, 94611\, United States
CATEGORIES:Scouts BSA
GEO:37.8250896;-122.2319977
X-APPLE-STRUCTURED-LOCATION;VALUE=URI;X-ADDRESS=Kettlewell Room Piedmont Community Church 400 Highland Ave Piedmont 94611 United States;X-APPLE-RADIUS=500;X-TITLE=Piedmont Community Church 400 Highland Ave:geo:-122.2319977,37.8250896
END:VEVENT
END:VCALENDAR